BEGIN:VCALENDAR
VERSION:2.0
PRODID:spatie/icalendar-generator
DESCRIPTION:Events from New Spirit Baptist Church
X-WR-CALDESC:Events from New Spirit Baptist Church
REFRESH-INTERVAL;VALUE=DURATION:PT1440M
X-PUBLISHED-TTL:PT1440M
BEGIN:VTIMEZONE
TZID:America/Los_Angeles
BEGIN:STANDARD
DTSTART:20251102T020000Z
TZOFFSETFROM:-0700
TZOFFSETTO:-0800
END:STANDARD
BEGIN:DAYLIGHT
DTSTART:20260308T020000Z
TZOFFSETFROM:-0800
TZOFFSETTO:-0700
END:DAYLIGHT
BEGIN:STANDARD
DTSTART:20261101T020000Z
TZOFFSETFROM:-0700
TZOFFSETTO:-0800
END:STANDARD
END:VTIMEZONE
BEGIN:VTIMEZONE
TZID:UTC
BEGIN:STANDARD
DTSTART:20250727T191529Z
TZOFFSETFROM:+0000
TZOFFSETTO:+0000
END:STANDARD
END:VTIMEZONE
BEGIN:VEVENT
UID:3811-36
DTSTAMP:20260423T191529Z
SUMMARY:Leadership Meeting
LOCATION:
ORGANIZER;CN=NewSpirit:MAILTO:info@newspiritsachurch.org
RRULE:FREQ=MONTHLY;BYDAY=1SA;UNTIL=20340902T000000Z
DTSTART;TZID=America/Los_Angeles:20260502T100000
DTEND;TZID=America/Los_Angeles:20260502T120000
X-ALT-DESC;FMTTYPE=TEXT/HTML:
CATEGORIES:Ministry Meeting,  Meeting
URL;VALUE=URI:https://newspiritsachurch.org/mc-events/leadership-meeting-2/
 ?mc_id=3811
METHOD:PUBLISH
END:VEVENT
END:VCALENDAR