BEGIN:VCALENDAR
VERSION:2.0
PRODID:spatie/icalendar-generator
DESCRIPTION:Events from New Spirit Baptist Church
X-WR-CALDESC:Events from New Spirit Baptist Church
REFRESH-INTERVAL;VALUE=DURATION:PT1440M
X-PUBLISHED-TTL:PT1440M
BEGIN:VTIMEZONE
TZID:America/Los_Angeles
BEGIN:STANDARD
DTSTART:20231105T020000Z
TZOFFSETFROM:-0700
TZOFFSETTO:-0800
END:STANDARD
BEGIN:DAYLIGHT
DTSTART:20240310T020000Z
TZOFFSETFROM:-0800
TZOFFSETTO:-0700
END:DAYLIGHT
END:VTIMEZONE
BEGIN:VTIMEZONE
TZID:UTC
BEGIN:STANDARD
DTSTART:20250728T030321Z
TZOFFSETFROM:+0000
TZOFFSETTO:+0000
END:STANDARD
END:VTIMEZONE
BEGIN:VEVENT
UID:3555-16
DTSTAMP:20260424T030321Z
SUMMARY:20 Years of Pastoral Service Celebration
LOCATION:
ORGANIZER;CN=NewSpirit:MAILTO:info@newspiritsachurch.org
DTSTART;TZID=America/Los_Angeles:20240114T153000
DTEND;TZID=America/Los_Angeles:20240114T183000
X-ALT-DESC;FMTTYPE=TEXT/HTML:
CATEGORIES:Church Event
URL;VALUE=URI:https://newspiritsachurch.org/mc-events/20-years-of-pastoral-
 service-celebration/
METHOD:PUBLISH
END:VEVENT
END:VCALENDAR