BEGIN:VCALENDAR
VERSION:2.0
PRODID:spatie/icalendar-generator
DESCRIPTION:Events from New Spirit Baptist Church
X-WR-CALDESC:Events from New Spirit Baptist Church
REFRESH-INTERVAL;VALUE=DURATION:PT1440M
X-PUBLISHED-TTL:PT1440M
BEGIN:VTIMEZONE
TZID:America/Los_Angeles
BEGIN:DAYLIGHT
DTSTART:20240310T020000Z
TZOFFSETFROM:-0800
TZOFFSETTO:-0700
END:DAYLIGHT
BEGIN:STANDARD
DTSTART:20241103T020000Z
TZOFFSETFROM:-0700
TZOFFSETTO:-0800
END:STANDARD
BEGIN:DAYLIGHT
DTSTART:20250309T020000Z
TZOFFSETFROM:-0800
TZOFFSETTO:-0700
END:DAYLIGHT
END:VTIMEZONE
BEGIN:VTIMEZONE
TZID:UTC
BEGIN:STANDARD
DTSTART:20250727T235758Z
TZOFFSETFROM:+0000
TZOFFSETTO:+0000
END:STANDARD
END:VTIMEZONE
BEGIN:VEVENT
UID:8126-104
DTSTAMP:20260423T235758Z
SUMMARY:Prayer &amp;amp\; Bible Study
LOCATION:
ORGANIZER;CN=NewSpirit:MAILTO:info@newspiritsachurch.org
RRULE:FREQ=WEEKLY;UNTIL=20250806T000000Z
DTSTART;TZID=America/Los_Angeles:20241009T113000
DTEND;TZID=America/Los_Angeles:20241009T123000
X-ALT-DESC;FMTTYPE=TEXT/HTML:
CATEGORIES:Prayer &amp; Bible Study
URL;VALUE=URI:https://newspiritsachurch.org/mc-events/prayer-bible-study-9/
 ?mc_id=8126
METHOD:PUBLISH
END:VEVENT
END:VCALENDAR