BEGIN:VCALENDAR
VERSION:2.0
PRODID:spatie/icalendar-generator
DESCRIPTION:Events from New Spirit Baptist Church
X-WR-CALDESC:Events from New Spirit Baptist Church
REFRESH-INTERVAL;VALUE=DURATION:PT1440M
X-PUBLISHED-TTL:PT1440M
BEGIN:VTIMEZONE
TZID:America/Los_Angeles
BEGIN:STANDARD
DTSTART:20251102T020000Z
TZOFFSETFROM:-0700
TZOFFSETTO:-0800
END:STANDARD
BEGIN:DAYLIGHT
DTSTART:20260308T020000Z
TZOFFSETFROM:-0800
TZOFFSETTO:-0700
END:DAYLIGHT
END:VTIMEZONE
BEGIN:VTIMEZONE
TZID:UTC
BEGIN:STANDARD
DTSTART:20250727T161618Z
TZOFFSETFROM:+0000
TZOFFSETTO:+0000
END:STANDARD
END:VTIMEZONE
BEGIN:VEVENT
UID:790-2
DTSTAMP:20260423T161618Z
SUMMARY:Communion Sunday
LOCATION:
ORGANIZER;CN=ugftajmy:MAILTO:ugftajmy@box2320.bluehost.com
RRULE:FREQ=MONTHLY;BYDAY=1SU;UNTIL=20330102T000000Z
DTSTART;TZID=America/Los_Angeles:20260405T110000
DTEND;TZID=America/Los_Angeles:20260405T130000
X-ALT-DESC;FMTTYPE=TEXT/HTML:
CATEGORIES:Communion
URL;VALUE=URI:https://newspiritsachurch.org/mc-events/communion-sunday/?mc_
 id=790
METHOD:PUBLISH
END:VEVENT
END:VCALENDAR