BEGIN:VCALENDAR
VERSION:2.0
PRODID:spatie/icalendar-generator
DESCRIPTION:Events from New Spirit Baptist Church
X-WR-CALDESC:Events from New Spirit Baptist Church
REFRESH-INTERVAL;VALUE=DURATION:PT1440M
X-PUBLISHED-TTL:PT1440M
BEGIN:VTIMEZONE
TZID:America/Los_Angeles
BEGIN:DAYLIGHT
DTSTART:20240310T020000Z
TZOFFSETFROM:-0800
TZOFFSETTO:-0700
END:DAYLIGHT
BEGIN:STANDARD
DTSTART:20241103T020000Z
TZOFFSETFROM:-0700
TZOFFSETTO:-0800
END:STANDARD
BEGIN:DAYLIGHT
DTSTART:20250309T020000Z
TZOFFSETFROM:-0800
TZOFFSETTO:-0700
END:DAYLIGHT
END:VTIMEZONE
BEGIN:VTIMEZONE
TZID:UTC
BEGIN:STANDARD
DTSTART:20250727T205456Z
TZOFFSETFROM:+0000
TZOFFSETTO:+0000
END:STANDARD
END:VTIMEZONE
BEGIN:VEVENT
UID:6400-85
DTSTAMP:20260423T205456Z
SUMMARY:Prayer &amp;amp\; Bible Study
LOCATION:
ORGANIZER;CN=ugftajmy:MAILTO:ugftajmy@box2320.bluehost.com
RRULE:FREQ=WEEKLY;UNTIL=20350829T000000Z
DTSTART;TZID=America/Los_Angeles:20241002T190000
DTEND;TZID=America/Los_Angeles:20241002T210000
X-ALT-DESC;FMTTYPE=TEXT/HTML:
CATEGORIES:Prayer &amp; Bible Study
URL;VALUE=URI:https://newspiritsachurch.org/mc-events/prayer-bible-study-7/
 ?mc_id=6400
METHOD:PUBLISH
END:VEVENT
END:VCALENDAR