BEGIN:VCALENDAR
VERSION:2.0
PRODID:spatie/icalendar-generator
DESCRIPTION:Events from New Spirit Baptist Church
X-WR-CALDESC:Events from New Spirit Baptist Church
REFRESH-INTERVAL;VALUE=DURATION:PT1440M
X-PUBLISHED-TTL:PT1440M
BEGIN:VTIMEZONE
TZID:America/Los_Angeles
BEGIN:DAYLIGHT
DTSTART:20250309T020000Z
TZOFFSETFROM:-0800
TZOFFSETTO:-0700
END:DAYLIGHT
BEGIN:STANDARD
DTSTART:20251102T020000Z
TZOFFSETFROM:-0700
TZOFFSETTO:-0800
END:STANDARD
END:VTIMEZONE
BEGIN:VTIMEZONE
TZID:UTC
BEGIN:STANDARD
DTSTART:20250727T221633Z
TZOFFSETFROM:+0000
TZOFFSETTO:+0000
END:STANDARD
END:VTIMEZONE
BEGIN:VEVENT
UID:5529-88
DTSTAMP:20260423T221633Z
SUMMARY:Prayer &amp;amp\; Bible Study - Cancelled
LOCATION:
ORGANIZER;CN=ugftajmy:MAILTO:ugftajmy@box2320.bluehost.com
DTSTART;TZID=America/Los_Angeles:20250827T190000
DTEND;TZID=America/Los_Angeles:20250827T210000
X-ALT-DESC;FMTTYPE=TEXT/HTML:
CATEGORIES:Prayer &amp; Bible Study
URL;VALUE=URI:https://newspiritsachurch.org/mc-events/prayer-bible-study-ca
 ncelled-5/
METHOD:PUBLISH
END:VEVENT
END:VCALENDAR