BEGIN:VCALENDAR
VERSION:2.0
PRODID:spatie/icalendar-generator
DESCRIPTION:Events from New Spirit Baptist Church
X-WR-CALDESC:Events from New Spirit Baptist Church
REFRESH-INTERVAL;VALUE=DURATION:PT1440M
X-PUBLISHED-TTL:PT1440M
BEGIN:VTIMEZONE
TZID:America/Los_Angeles
BEGIN:DAYLIGHT
DTSTART:20240310T020000Z
TZOFFSETFROM:-0800
TZOFFSETTO:-0700
END:DAYLIGHT
BEGIN:STANDARD
DTSTART:20241103T020000Z
TZOFFSETFROM:-0700
TZOFFSETTO:-0800
END:STANDARD
BEGIN:DAYLIGHT
DTSTART:20250309T020000Z
TZOFFSETFROM:-0800
TZOFFSETTO:-0700
END:DAYLIGHT
END:VTIMEZONE
BEGIN:VTIMEZONE
TZID:UTC
BEGIN:STANDARD
DTSTART:20250728T112904Z
TZOFFSETFROM:+0000
TZOFFSETTO:+0000
END:STANDARD
END:VTIMEZONE
BEGIN:VEVENT
UID:3914-41
DTSTAMP:20260424T112904Z
SUMMARY:Outing to Faithful Covenant of Colton
LOCATION:
ORGANIZER;CN=NewSpirit:MAILTO:info@newspiritsachurch.org
DTSTART;TZID=America/Los_Angeles:20241020T150000
DTEND;TZID=America/Los_Angeles:20241020T180000
X-ALT-DESC;FMTTYPE=TEXT/HTML:Join us as we celebrate the Pastor's Anniversa
 ry with the members of Faithful Covenant. Pastor Clark will deliver the me
 ssage\, and our choir will minister in song. The church van will be availa
 ble for transportation. A sign-up sheet is in the vestibule. The church's 
 address is 1400 E Cooley Dr.\, Set 104\, Colton\, CA 92324
CATEGORIES:Church Event
URL;VALUE=URI:https://newspiritsachurch.org/mc-events/outing-to-faithful-co
 venant-of-colton/
METHOD:PUBLISH
END:VEVENT
END:VCALENDAR