BEGIN:VCALENDAR
VERSION:2.0
PRODID:spatie/icalendar-generator
DESCRIPTION:Events from New Spirit Baptist Church
X-WR-CALDESC:Events from New Spirit Baptist Church
REFRESH-INTERVAL;VALUE=DURATION:PT1440M
X-PUBLISHED-TTL:PT1440M
BEGIN:VTIMEZONE
TZID:America/Los_Angeles
BEGIN:DAYLIGHT
DTSTART:20240310T020000Z
TZOFFSETFROM:-0800
TZOFFSETTO:-0700
END:DAYLIGHT
BEGIN:STANDARD
DTSTART:20241103T020000Z
TZOFFSETFROM:-0700
TZOFFSETTO:-0800
END:STANDARD
BEGIN:DAYLIGHT
DTSTART:20250309T020000Z
TZOFFSETFROM:-0800
TZOFFSETTO:-0700
END:DAYLIGHT
END:VTIMEZONE
BEGIN:VTIMEZONE
TZID:UTC
BEGIN:STANDARD
DTSTART:20250728T112100Z
TZOFFSETFROM:+0000
TZOFFSETTO:+0000
END:STANDARD
END:VTIMEZONE
BEGIN:VEVENT
UID:3791-26
DTSTAMP:20260424T112100Z
SUMMARY:NSBC Re-Connect Picnic-Reset!
LOCATION:Memorial Park 2102 South Flower Street  Santa Ana CA
ORGANIZER;CN=NewSpirit:MAILTO:info@newspiritsachurch.org
DTSTART;TZID=America/Los_Angeles:20240921T100000
DTEND;TZID=America/Los_Angeles:20240921T150000
X-ALT-DESC;FMTTYPE=TEXT/HTML:
CATEGORIES:Church Event
URL;VALUE=URI:https://newspiritsachurch.org/mc-events/nsbc-re-connect-picni
 c-reset/
METHOD:PUBLISH
END:VEVENT
END:VCALENDAR