BEGIN:VCALENDAR
VERSION:2.0
PRODID:spatie/icalendar-generator
DESCRIPTION:Events from New Spirit Baptist Church
X-WR-CALDESC:Events from New Spirit Baptist Church
REFRESH-INTERVAL;VALUE=DURATION:PT1440M
X-PUBLISHED-TTL:PT1440M
BEGIN:VTIMEZONE
TZID:America/Los_Angeles
BEGIN:STANDARD
DTSTART:20231105T020000Z
TZOFFSETFROM:-0700
TZOFFSETTO:-0800
END:STANDARD
BEGIN:DAYLIGHT
DTSTART:20240310T020000Z
TZOFFSETFROM:-0800
TZOFFSETTO:-0700
END:DAYLIGHT
END:VTIMEZONE
BEGIN:VTIMEZONE
TZID:UTC
BEGIN:STANDARD
DTSTART:20250727T235735Z
TZOFFSETFROM:+0000
TZOFFSETTO:+0000
END:STANDARD
END:VTIMEZONE
BEGIN:VEVENT
UID:1-1
DTSTAMP:20260423T235735Z
SUMMARY:Demo: Florence Price: Symphony No. 3 in c minor
LOCATION:Demo: Minnesota Orchestra 1111 Nicollet Mall  Minneapolis MN 55403
ORGANIZER;CN=ugftajmy:MAILTO:ugftajmy@box2320.bluehost.com
DTSTART;TZID=America/Los_Angeles:20231209T193000
DTEND;TZID=America/Los_Angeles:20231209T210000
X-ALT-DESC;FMTTYPE=TEXT/HTML:<p>Florence Price's Symphony No.3 was first pe
 rformed on November 6th\, 1940. It was Ms. Price's third symphony\, follow
 ing her lost Symphony No. 2</p>\n
CATEGORIES:General
URL;VALUE=URI:https://newspiritsachurch.org/mc-events/demo-florence-price-s
 ymphony-no-3-in-c-minor/
METHOD:PUBLISH
END:VEVENT
END:VCALENDAR